BEGIN:VCALENDAR
PRODID:-//SINGPromos.com//NONSGML v1.0//EN
VERSION:2.0
CALSCALE:GREGORIAN
METHOD:PUBLISH
X-WR-CALNAME:SINGPromos.com
X-ORIGINAL-URL:https://singpromos.com
X-WR-CALDESC:Events for SINGPromos.com
BEGIN:VEVENT
DTSTART:20251106T000000
DTEND:20251112T235900
DTSTAMP:20260422T082145
CREATED:20251106T174636
LAST-MODIFIED:20251106T174636
UID:295596@https://singpromos.com
SUMMARY:FairPrice 50% OFF Bulla Crunch, CocoThumb Coconut & More Link Member Deals Till 12 Nov 2025
DESCRIPTION:Enjoy half-price savings on family treats & essentials. For more information, visit [ https://singpromos.com/dining-restaurants-food/fairprice-50-off-bulla-crunch-cocothumb-coconut-more-link-member-deals-till-12-nov-2025-295596/ ]. 
LOCATION:
URL:https://singpromos.com/dining-restaurants-food/fairprice-50-off-bulla-crunch-cocothumb-coconut-more-link-member-deals-till-12-nov-2025-295596/
END:VEVENT
END:VCALENDAR