BEGIN:VCALENDAR
PRODID:-//SINGPromos.com//NONSGML v1.0//EN
VERSION:2.0
CALSCALE:GREGORIAN
METHOD:PUBLISH
X-WR-CALNAME:SINGPromos.com
X-ORIGINAL-URL:https://singpromos.com
X-WR-CALDESC:Events for SINGPromos.com
BEGIN:VEVENT
DTSTART:20251117T000000
DTEND:20251201T235900
DTSTAMP:20260422T082300
CREATED:20251117T164832
LAST-MODIFIED:20251117T164832
UID:295882@https://singpromos.com
SUMMARY:O&O Software 50% Black Friday & Cyber Monday Sale (Until 1 Dec 2025)
DESCRIPTION:Get 50% off top O&O Software tools with no minimum spend. For more information, visit [ https://singpromos.com/computers-pc/oo-software-50-black-friday-cyber-monday-sale-until-1-dec-2025-295882/ ]. 
LOCATION:
URL:https://singpromos.com/computers-pc/oo-software-50-black-friday-cyber-monday-sale-until-1-dec-2025-295882/
END:VEVENT
END:VCALENDAR