BEGIN:VCALENDAR
PRODID:-//SINGPromos.com//NONSGML v1.0//EN
VERSION:2.0
CALSCALE:GREGORIAN
METHOD:PUBLISH
X-WR-CALNAME:SINGPromos.com
X-ORIGINAL-URL:https://singpromos.com
X-WR-CALDESC:Events for SINGPromos.com
BEGIN:VEVENT
DTSTART:20251117T000000
DTEND:20251129T235900
DTSTAMP:20260422T054849
CREATED:20251119T173757
LAST-MODIFIED:20251119T173757
UID:295943@https://singpromos.com
SUMMARY:pCloud up to 60% OFF lifetime cloud storage Black Friday deal ends 29 Nov 2025
DESCRIPTION:Grab great lifetime savings on pCloud's cloud storage and security plans. For more information, visit [ https://singpromos.com/computers-pc/pcloud-up-to-60-off-lifetime-cloud-storage-black-friday-deal-ends-29-nov-2025-295943/ ]. 
LOCATION:
URL:https://singpromos.com/computers-pc/pcloud-up-to-60-off-lifetime-cloud-storage-black-friday-deal-ends-29-nov-2025-295943/
END:VEVENT
END:VCALENDAR