BEGIN:VCALENDAR
PRODID:-//SINGPromos.com//NONSGML v1.0//EN
VERSION:2.0
CALSCALE:GREGORIAN
METHOD:PUBLISH
X-WR-CALNAME:SINGPromos.com
X-ORIGINAL-URL:https://singpromos.com
X-WR-CALDESC:Events for SINGPromos.com
BEGIN:VEVENT
DTSTART:20251107T000000
DTEND:20251228T235900
DTSTAMP:20260422T201146
CREATED:20251119T220258
LAST-MODIFIED:20251119T220258
UID:295982@https://singpromos.com
SUMMARY:Far East Malls Celebrates Holiday Season with Sanrio Characters until 28 Dec 2025
DESCRIPTION:A Kawaii Christmas Awaits with Sanrio characters at Far East Malls. For more information, visit [ https://singpromos.com/shopping-malls/far-east-malls-celebrates-holiday-season-with-sanrio-characters-until-28-dec-2025-295982/ ]. 
LOCATION:
URL:https://singpromos.com/shopping-malls/far-east-malls-celebrates-holiday-season-with-sanrio-characters-until-28-dec-2025-295982/
END:VEVENT
END:VCALENDAR