BEGIN:VCALENDAR
PRODID:-//SINGPromos.com//NONSGML v1.0//EN
VERSION:2.0
CALSCALE:GREGORIAN
METHOD:PUBLISH
X-WR-CALNAME:SINGPromos.com
X-ORIGINAL-URL:https://singpromos.com
X-WR-CALDESC:Events for SINGPromos.com
BEGIN:VEVENT
DTSTART:20251122T000000
DTEND:20251207T235900
DTSTAMP:20260420T155106
CREATED:20251124T154653
LAST-MODIFIED:20251124T154653
UID:296142@https://singpromos.com
SUMMARY:Dunkin' Singapore Buy 5, Get 2 Free Donuts & Drinks fr $2.50 until 7 Dec 2025
DESCRIPTION:Dunkin' rolls out wallet-friendly holiday treats. For more information, visit [ https://singpromos.com/dining-restaurants-food/dunkin-singapore-buy-5-get-2-free-donuts-drinks-fr-2-50-until-7-dec-2025-296142/ ]. 
LOCATION:
URL:https://singpromos.com/dining-restaurants-food/dunkin-singapore-buy-5-get-2-free-donuts-drinks-fr-2-50-until-7-dec-2025-296142/
END:VEVENT
END:VCALENDAR