BEGIN:VCALENDAR
PRODID:-//SINGPromos.com//NONSGML v1.0//EN
VERSION:2.0
CALSCALE:GREGORIAN
METHOD:PUBLISH
X-WR-CALNAME:SINGPromos.com
X-ORIGINAL-URL:https://singpromos.com
X-WR-CALDESC:Events for SINGPromos.com
BEGIN:VEVENT
DTSTART:20251125T000000
DTEND:20251203T235900
DTSTAMP:20260419T232608
CREATED:20251126T072943
LAST-MODIFIED:20251126T035359
UID:296289@https://singpromos.com
SUMMARY:GOG.com Over 7,500 Deals Black Friday Promo Till 3 Dec 2025
DESCRIPTION:Discover thousands of DRM-free bargains. For more information, visit [ https://singpromos.com/video-games/gog-com-over-7500-deals-black-friday-promo-till-3-dec-2025-296289/ ]. 
LOCATION:
URL:https://singpromos.com/video-games/gog-com-over-7500-deals-black-friday-promo-till-3-dec-2025-296289/
END:VEVENT
END:VCALENDAR