BEGIN:VCALENDAR
PRODID:-//SINGPromos.com//NONSGML v1.0//EN
VERSION:2.0
CALSCALE:GREGORIAN
METHOD:PUBLISH
X-WR-CALNAME:SINGPromos.com
X-ORIGINAL-URL:https://singpromos.com
X-WR-CALDESC:Events for SINGPromos.com
BEGIN:VEVENT
DTSTART:20251126T000000
DTEND:20251228T235900
DTSTAMP:20260422T082323
CREATED:20251126T191123
LAST-MODIFIED:20251126T191123
UID:296307@https://singpromos.com
SUMMARY:Takashimaya Christmas Fantasy Toys Fair Till 28 Dec 2025
DESCRIPTION:Discover huge toy deals, pop-ups and festive fun at Takashimaya Square, B2 this Christmas!. For more information, visit [ https://singpromos.com/happenings/takashimaya-christmas-fantasy-toys-fair-till-28-dec-2025-296307/ ]. 
LOCATION:238873
URL:https://singpromos.com/happenings/takashimaya-christmas-fantasy-toys-fair-till-28-dec-2025-296307/
END:VEVENT
END:VCALENDAR