BEGIN:VCALENDAR
PRODID:-//SINGPromos.com//NONSGML v1.0//EN
VERSION:2.0
CALSCALE:GREGORIAN
METHOD:PUBLISH
X-WR-CALNAME:SINGPromos.com
X-ORIGINAL-URL:https://singpromos.com
X-WR-CALDESC:Events for SINGPromos.com
BEGIN:VEVENT
DTSTART:20251127T000000
DTEND:20251130T235900
DTSTAMP:20260424T034707
CREATED:20251127T152815
LAST-MODIFIED:20251127T152926
UID:296378@https://singpromos.com
SUMMARY:Sheng Siong Black Friday 2025 Has Magnum, Cadbury, Meiji, Ritz & More until 30 Nov 2025
DESCRIPTION:Score big savings on snacks, drinks, groceries and daily essentials. For more information, visit [ https://singpromos.com/dining-restaurants-food/sheng-siong-black-friday-2025-has-magnum-cadbury-meiji-ritz-more-until-30-nov-2025-296378/ ]. 
LOCATION:
URL:https://singpromos.com/dining-restaurants-food/sheng-siong-black-friday-2025-has-magnum-cadbury-meiji-ritz-more-until-30-nov-2025-296378/
END:VEVENT
END:VCALENDAR