BEGIN:VCALENDAR
PRODID:-//SINGPromos.com//NONSGML v1.0//EN
VERSION:2.0
CALSCALE:GREGORIAN
METHOD:PUBLISH
X-WR-CALNAME:SINGPromos.com
X-ORIGINAL-URL:https://singpromos.com
X-WR-CALDESC:Events for SINGPromos.com
BEGIN:VEVENT
DTSTART:20251126T000000
DTEND:20251231T235900
DTSTAMP:20260420T220300
CREATED:20251129T161700
LAST-MODIFIED:20251129T161700
UID:296470@https://singpromos.com
SUMMARY:60% Off Faber Licence Membership with Unlimited Cable Car Rides for Local Seniors until 31 Dec 2025
DESCRIPTION:Local seniors enjoy 1 year of unlimited cable car rides and dining perks. For more information, visit [ https://singpromos.com/places-of-interest/60-off-faber-licence-membership-with-unlimited-cable-car-rides-for-local-seniors-until-31-dec-2025-296470/ ]. 
LOCATION:
URL:https://singpromos.com/places-of-interest/60-off-faber-licence-membership-with-unlimited-cable-car-rides-for-local-seniors-until-31-dec-2025-296470/
END:VEVENT
END:VCALENDAR