BEGIN:VCALENDAR
PRODID:-//SINGPromos.com//NONSGML v1.0//EN
VERSION:2.0
CALSCALE:GREGORIAN
METHOD:PUBLISH
X-WR-CALNAME:SINGPromos.com
X-ORIGINAL-URL:https://singpromos.com
X-WR-CALDESC:Events for SINGPromos.com
BEGIN:VEVENT
DTSTART:20251204T000000
DTEND:20251204T235900
DTSTAMP:20260422T054752
CREATED:20251203T153946
LAST-MODIFIED:20251203T153946
UID:296567@https://singpromos.com
SUMMARY:4Fingers Singapore S$4 Wingettes & Drumettes Promo on 4 Dec 2025
DESCRIPTION:Score 4 crispy 4Fingers wingettes & drumettes for just S$4. For more information, visit [ https://singpromos.com/dining-restaurants-food/4fingers-singapore-s4-wingettes-drumettes-promo-on-4-dec-2025-296567/ ]. 
LOCATION:
URL:https://singpromos.com/dining-restaurants-food/4fingers-singapore-s4-wingettes-drumettes-promo-on-4-dec-2025-296567/
END:VEVENT
END:VCALENDAR