BEGIN:VCALENDAR
PRODID:-//SINGPromos.com//NONSGML v1.0//EN
VERSION:2.0
CALSCALE:GREGORIAN
METHOD:PUBLISH
X-WR-CALNAME:SINGPromos.com
X-ORIGINAL-URL:https://singpromos.com
X-WR-CALDESC:Events for SINGPromos.com
BEGIN:VEVENT
DTSTART:20251212T000000
DTEND:20251214T235900
DTSTAMP:20260420T052612
CREATED:20251212T040528
LAST-MODIFIED:20251219T094124
UID:296853@https://singpromos.com
SUMMARY:FairPrice 3-Day Specials until 14 Dec Has Ferrero Rocher, Eu Yan Sang, Seawaves & More
DESCRIPTION:Enjoy festive bargains on snacks, essentials and more. For more information, visit [ https://singpromos.com/dining-restaurants-food/fairprice-3-day-specials-until-14-dec-has-ferrero-rocher-eu-yan-sang-seawaves-more-296853/ ]. 
LOCATION:
URL:https://singpromos.com/dining-restaurants-food/fairprice-3-day-specials-until-14-dec-has-ferrero-rocher-eu-yan-sang-seawaves-more-296853/
END:VEVENT
END:VCALENDAR