BEGIN:VCALENDAR
PRODID:-//SINGPromos.com//NONSGML v1.0//EN
VERSION:2.0
CALSCALE:GREGORIAN
METHOD:PUBLISH
X-WR-CALNAME:SINGPromos.com
X-ORIGINAL-URL:https://singpromos.com
X-WR-CALDESC:Events for SINGPromos.com
BEGIN:VEVENT
DTSTART:20120413T000000
DTEND:20120429T235900
DTSTAMP:20260422T082119
CREATED:20120413T164944
LAST-MODIFIED:20120413T164944
UID:29687@https://singpromos.com
SUMMARY:Golf Direct April Super Sale 13 - 29 Apr 2012
DESCRIPTION:Here's Golf Direct's latest promotion on golf related items - the April Super Sale from 13 April to 29 April 2012 at their two outlets at Enterprise One and One Commonwealth.. For more information, visit [ https://singpromos.com/sports/golf-direct-april-super-sale-13-29-apr-2012-29687/ ]. 
LOCATION:
URL:https://singpromos.com/sports/golf-direct-april-super-sale-13-29-apr-2012-29687/
END:VEVENT
END:VCALENDAR