BEGIN:VCALENDAR
PRODID:-//SINGPromos.com//NONSGML v1.0//EN
VERSION:2.0
CALSCALE:GREGORIAN
METHOD:PUBLISH
X-WR-CALNAME:SINGPromos.com
X-ORIGINAL-URL:https://singpromos.com
X-WR-CALDESC:Events for SINGPromos.com
BEGIN:VEVENT
DTSTART:20251210T000000
DTEND:20260107T235900
DTSTAMP:20260420T052614
CREATED:20251213T011755
LAST-MODIFIED:20251213T011755
UID:296892@https://singpromos.com
SUMMARY:NordVPN Up to 74% Off plus 3 Months Free on 2-Year Plans Christmas Promo until 7 Jan 2026
DESCRIPTION:Enjoy faster, safer internet with NordVPN. For more information, visit [ https://singpromos.com/computers-pc/nordvpn-up-to-74-off-plus-3-months-free-on-2-year-plans-christmas-promo-until-7-jan-2026-296892/ ]. 
LOCATION:
URL:https://singpromos.com/computers-pc/nordvpn-up-to-74-off-plus-3-months-free-on-2-year-plans-christmas-promo-until-7-jan-2026-296892/
END:VEVENT
END:VCALENDAR