BEGIN:VCALENDAR
PRODID:-//SINGPromos.com//NONSGML v1.0//EN
VERSION:2.0
CALSCALE:GREGORIAN
METHOD:PUBLISH
X-WR-CALNAME:SINGPromos.com
X-ORIGINAL-URL:https://singpromos.com
X-WR-CALDESC:Events for SINGPromos.com
BEGIN:VEVENT
DTSTART:20251219T000000
DTEND:20251221T235900
DTSTAMP:20260420T052653
CREATED:20251219T094046
LAST-MODIFIED:20251225T044841
UID:297081@https://singpromos.com
SUMMARY:FairPrice 3-Day Specials until 21 Dec Has 48% Off Ferrero Rocher, 58% Off New Moon, 35% Off Coca-Cola & More
DESCRIPTION:Stock up on festive groceries, drinks and treats with sharp, limited-time savings. For more information, visit [ https://singpromos.com/dining-restaurants-food/fairprice-3-day-specials-until-21-dec-has-48-off-ferrero-rocher-58-new-moon-35-off-coca-cola-more-297081/ ]. 
LOCATION:
URL:https://singpromos.com/dining-restaurants-food/fairprice-3-day-specials-until-21-dec-has-48-off-ferrero-rocher-58-new-moon-35-off-coca-cola-more-297081/
END:VEVENT
END:VCALENDAR