BEGIN:VCALENDAR
PRODID:-//SINGPromos.com//NONSGML v1.0//EN
VERSION:2.0
CALSCALE:GREGORIAN
METHOD:PUBLISH
X-WR-CALNAME:SINGPromos.com
X-ORIGINAL-URL:https://singpromos.com
X-WR-CALDESC:Events for SINGPromos.com
BEGIN:VEVENT
DTSTART:20251225T000000
DTEND:20251226T235900
DTSTAMP:20260420T035746
CREATED:20251225T034215
LAST-MODIFIED:20251225T034215
UID:297293@https://singpromos.com
SUMMARY:Crocs S'pore Buy 2 Get 40% Off, Buy 1 Get 30% Off 48hr Flash Sale until 26 Dec 2025
DESCRIPTION:Score major savings on Crocs footwear. For more information, visit [ https://singpromos.com/footwear/crocs-spore-buy-2-get-40-off-buy-1-get-30-off-48hr-flash-sale-until-26-dec-2025-297293/ ]. 
LOCATION:
URL:https://singpromos.com/footwear/crocs-spore-buy-2-get-40-off-buy-1-get-30-off-48hr-flash-sale-until-26-dec-2025-297293/
END:VEVENT
END:VCALENDAR