BEGIN:VCALENDAR
PRODID:-//SINGPromos.com//NONSGML v1.0//EN
VERSION:2.0
CALSCALE:GREGORIAN
METHOD:PUBLISH
X-WR-CALNAME:SINGPromos.com
X-ORIGINAL-URL:https://singpromos.com
X-WR-CALDESC:Events for SINGPromos.com
BEGIN:VEVENT
DTSTART:20251225T000000
DTEND:20251228T235900
DTSTAMP:20260420T035719
CREATED:20251225T044815
LAST-MODIFIED:20251225T133922
UID:297300@https://singpromos.com
SUMMARY:FairPrice 4-Day Specials until 28 Dec Has Ferrero Rocher, Valley Chef Chicken Franks, Milo & More
DESCRIPTION:Score festive deals on groceries, treats and household must-haves. For more information, visit [ https://singpromos.com/dining-restaurants-food/fairprice-4-day-specials-until-28-dec-has-ferrero-rocher-valley-chef-chicken-franks-milo-more-297300/ ]. 
LOCATION:
URL:https://singpromos.com/dining-restaurants-food/fairprice-4-day-specials-until-28-dec-has-ferrero-rocher-valley-chef-chicken-franks-milo-more-297300/
END:VEVENT
END:VCALENDAR