BEGIN:VCALENDAR
PRODID:-//SINGPromos.com//NONSGML v1.0//EN
VERSION:2.0
CALSCALE:GREGORIAN
METHOD:PUBLISH
X-WR-CALNAME:SINGPromos.com
X-ORIGINAL-URL:https://singpromos.com
X-WR-CALDESC:Events for SINGPromos.com
BEGIN:VEVENT
DTSTART:20120414T000000
DTEND:20120610T235900
DTSTAMP:20260422T054721
CREATED:20120414T111948
LAST-MODIFIED:20120608T134158
UID:29759@https://singpromos.com
SUMMARY:Norton Singapore 15% Off Coupon Code 14 Apr 2012
DESCRIPTION:Get this limited time offer for an extra 15% savings on your online purchase, valid for use at the Symantec Singapore online store. For more information, visit [ https://singpromos.com/computers-pc/norton-by-symantec-singapore-15-off-coupon-code-14-apr-2012-29759/ ]. 
LOCATION:
URL:https://singpromos.com/computers-pc/norton-by-symantec-singapore-15-off-coupon-code-14-apr-2012-29759/
END:VEVENT
END:VCALENDAR