BEGIN:VCALENDAR
PRODID:-//SINGPromos.com//NONSGML v1.0//EN
VERSION:2.0
CALSCALE:GREGORIAN
METHOD:PUBLISH
X-WR-CALNAME:SINGPromos.com
X-ORIGINAL-URL:https://singpromos.com
X-WR-CALDESC:Events for SINGPromos.com
BEGIN:VEVENT
DTSTART:20260114T000000
DTEND:20260127T235900
DTSTAMP:20260424T034604
CREATED:20260114T125208
LAST-MODIFIED:20260128T143316
UID:298079@https://singpromos.com
SUMMARY:7-Eleven S'pore New $1 Snack & Drink Steals Until 27 Jan 2026
DESCRIPTION:Enjoy wallet-friendly $1 snacks and drinks at 7-Eleven, perfect for daily cravings and quick refreshment. For more information, visit [ https://singpromos.com/dining-restaurants-food/7-eleven-spore-new-1-snack-drink-steals-until-27-jan-2026-298079/ ]. 
LOCATION:
URL:https://singpromos.com/dining-restaurants-food/7-eleven-spore-new-1-snack-drink-steals-until-27-jan-2026-298079/
END:VEVENT
END:VCALENDAR