BEGIN:VCALENDAR
PRODID:-//SINGPromos.com//NONSGML v1.0//EN
VERSION:2.0
CALSCALE:GREGORIAN
METHOD:PUBLISH
X-WR-CALNAME:SINGPromos.com
X-ORIGINAL-URL:https://singpromos.com
X-WR-CALDESC:Events for SINGPromos.com
BEGIN:VEVENT
DTSTART:20120414T000000
DTEND:20120420T235900
DTSTAMP:20260420T214023
CREATED:20120414T230044
LAST-MODIFIED:20120414T230608
UID:29814@https://singpromos.com
SUMMARY:Harvey Norman Furniture, Appliances & Electronics Promotion Offers 14 - 20 Apr 2012
DESCRIPTION:Harvey Norman is having a "Great Style Great Value Earth Has To Offer" promotion. Receive a free pair of Men In Black 3 Movie Tickets with any TV or Notebook purchased. For more information, visit [ https://singpromos.com/computers-pc/harvey-norman-furniture-appliances-electronics-promotion-offers-14-20-apr-2012-29814/ ]. 
LOCATION:
URL:https://singpromos.com/computers-pc/harvey-norman-furniture-appliances-electronics-promotion-offers-14-20-apr-2012-29814/
END:VEVENT
END:VCALENDAR