BEGIN:VCALENDAR
PRODID:-//SINGPromos.com//NONSGML v1.0//EN
VERSION:2.0
CALSCALE:GREGORIAN
METHOD:PUBLISH
X-WR-CALNAME:SINGPromos.com
X-ORIGINAL-URL:https://singpromos.com
X-WR-CALDESC:Events for SINGPromos.com
BEGIN:VEVENT
DTSTART:20260115T000000
DTEND:20260118T235900
DTSTAMP:20260420T061151
CREATED:20260115T153041
LAST-MODIFIED:20260115T153115
UID:298143@https://singpromos.com
SUMMARY:Giant S'pore Abalone Deals until 18 Jan - New Moon, Emperor, Fortune, Skylight & More
DESCRIPTION:Premium canned abalone, festive gift sets and more. For more information, visit [ https://singpromos.com/dining-restaurants-food/giant-spore-abalone-deals-until-18-jan-new-moon-emperor-fortune-skylight-more-298143/ ]. 
LOCATION:
URL:https://singpromos.com/dining-restaurants-food/giant-spore-abalone-deals-until-18-jan-new-moon-emperor-fortune-skylight-more-298143/
END:VEVENT
END:VCALENDAR