BEGIN:VCALENDAR
PRODID:-//SINGPromos.com//NONSGML v1.0//EN
VERSION:2.0
CALSCALE:GREGORIAN
METHOD:PUBLISH
X-WR-CALNAME:SINGPromos.com
X-ORIGINAL-URL:https://singpromos.com
X-WR-CALDESC:Events for SINGPromos.com
BEGIN:VEVENT
DTSTART:20260117T000000
DTEND:20260118T235900
DTSTAMP:20260422T025524
CREATED:20260117T112447
LAST-MODIFIED:20260117T112447
UID:298219@https://singpromos.com
SUMMARY:Giant S'pore Deals Until 18 Jan Has 1 FOR 1 Magnolia Hershey's Classic, Up to 67% off Ferrero Rocher & More
DESCRIPTION:Grab weekend savings on groceries, drinks and festive essentials. For more information, visit [ https://singpromos.com/dining-restaurants-food/giant-spore-deals-until-18-jan-has-1-for-1-magnolia-hersheys-classic-up-to-67-off-ferrero-rocher-more-298219/ ]. 
LOCATION:
URL:https://singpromos.com/dining-restaurants-food/giant-spore-deals-until-18-jan-has-1-for-1-magnolia-hersheys-classic-up-to-67-off-ferrero-rocher-more-298219/
END:VEVENT
END:VCALENDAR