BEGIN:VCALENDAR
PRODID:-//SINGPromos.com//NONSGML v1.0//EN
VERSION:2.0
CALSCALE:GREGORIAN
METHOD:PUBLISH
X-WR-CALNAME:SINGPromos.com
X-ORIGINAL-URL:https://singpromos.com
X-WR-CALDESC:Events for SINGPromos.com
BEGIN:VEVENT
DTSTART:20260120T000000
DTEND:20260120T235900
DTSTAMP:20260422T072948
CREATED:20260120T064841
LAST-MODIFIED:20260120T020959
UID:298332@https://singpromos.com
SUMMARY:Scoot S'pore one-day flash sale on 20 Jan 2026 offers fares from $71 to over 35 cities, travel up to May 2026
DESCRIPTION:Scoot rolls out one-day-only flight deals with wallet-friendly fares across Asia and beyond. For more information, visit [ https://singpromos.com/airlines-flights/scoot-spore-one-day-flash-sale-on-20-jan-2026-offers-fares-from-71-to-over-35-cities-travel-up-to-may-2026-298332/ ]. 
LOCATION:
URL:https://singpromos.com/airlines-flights/scoot-spore-one-day-flash-sale-on-20-jan-2026-offers-fares-from-71-to-over-35-cities-travel-up-to-may-2026-298332/
END:VEVENT
END:VCALENDAR