BEGIN:VCALENDAR
PRODID:-//SINGPromos.com//NONSGML v1.0//EN
VERSION:2.0
CALSCALE:GREGORIAN
METHOD:PUBLISH
X-WR-CALNAME:SINGPromos.com
X-ORIGINAL-URL:https://singpromos.com
X-WR-CALDESC:Events for SINGPromos.com
BEGIN:VEVENT
DTSTART:20120416T000000
DTEND:20120420T235900
DTSTAMP:20260420T214023
CREATED:20120416T111152
LAST-MODIFIED:20120416T111221
UID:29864@https://singpromos.com
SUMMARY:Hotels.Com Japan 101 Sale Up To 50% Off 16 - 20 Apr 2012
DESCRIPTION:Hotels.com Japan 101 sale is now on! Save up to 50% off for hotel booking at places such as Osaka, Kyoto, Tokyo and more. Plus, enjoy an additional 8% off when you use the discount coupon code. For more information, visit [ https://singpromos.com/vacations/hotels-com-japan-101-sale-up-to-50-off-16-20-apr-2012-29864/ ]. 
LOCATION:
URL:https://singpromos.com/vacations/hotels-com-japan-101-sale-up-to-50-off-16-20-apr-2012-29864/
END:VEVENT
END:VCALENDAR