BEGIN:VCALENDAR
PRODID:-//SINGPromos.com//NONSGML v1.0//EN
VERSION:2.0
CALSCALE:GREGORIAN
METHOD:PUBLISH
X-WR-CALNAME:SINGPromos.com
X-ORIGINAL-URL:https://singpromos.com
X-WR-CALDESC:Events for SINGPromos.com
BEGIN:VEVENT
DTSTART:20110122T000000
DTEND:20110130T235900
DTSTAMP:20260422T051558
CREATED:20110123T004909
LAST-MODIFIED:20110129T185117
UID:2988@https://singpromos.com
SUMMARY:Citroen C3 Receive $1,000 Service Credits 22 Jan 2011
DESCRIPTION:Citroen is offering the new Citroen C3 at $89,988 with $1,000 worth of free service credits. Plus a dinner celebration for two. See ad image for more details.. For more information, visit [ https://singpromos.com/motor-vehicles/citroen-c3-receive-1000-service-credits-22-jan-2011-2988/ ]. 
LOCATION:
URL:https://singpromos.com/motor-vehicles/citroen-c3-receive-1000-service-credits-22-jan-2011-2988/
END:VEVENT
END:VCALENDAR