BEGIN:VCALENDAR
PRODID:-//SINGPromos.com//NONSGML v1.0//EN
VERSION:2.0
CALSCALE:GREGORIAN
METHOD:PUBLISH
X-WR-CALNAME:SINGPromos.com
X-ORIGINAL-URL:https://singpromos.com
X-WR-CALDESC:Events for SINGPromos.com
BEGIN:VEVENT
DTSTART:20260205T000000
DTEND:20260218T235900
DTSTAMP:20260420T052603
CREATED:20260203T075333
LAST-MODIFIED:20260205T130840
UID:299018@https://singpromos.com
SUMMARY:Sheng Siong Chinese New Year 2026 opening hours
DESCRIPTION:Plan your festive grocery runs. For more information, visit [ https://singpromos.com/department-stores/sheng-siong-chinese-new-year-2026-opening-hours-299018/ ]. 
LOCATION:
URL:https://singpromos.com/department-stores/sheng-siong-chinese-new-year-2026-opening-hours-299018/
END:VEVENT
END:VCALENDAR