BEGIN:VCALENDAR
PRODID:-//SINGPromos.com//NONSGML v1.0//EN
VERSION:2.0
CALSCALE:GREGORIAN
METHOD:PUBLISH
X-WR-CALNAME:SINGPromos.com
X-ORIGINAL-URL:https://singpromos.com
X-WR-CALDESC:Events for SINGPromos.com
BEGIN:VEVENT
DTSTART:20260220T000000
DTEND:20260228T235900
DTSTAMP:20260422T044713
CREATED:20260220T195942
LAST-MODIFIED:20260302T195443
UID:299859@https://singpromos.com
SUMMARY:Standard Chartered S'pore up to 1.35% p.a. 6-Month Time Deposit Promo Rates from 20 Feb 2026
DESCRIPTION:Compared with the previous update, the headline rates are lower. For more information, visit [ https://singpromos.com/banks-credit-cards/standard-chartered-spore-up-to-1-35-p-a-6-month-time-deposit-promo-rates-from-20-feb-2026-299859/ ]. 
LOCATION:
URL:https://singpromos.com/banks-credit-cards/standard-chartered-spore-up-to-1-35-p-a-6-month-time-deposit-promo-rates-from-20-feb-2026-299859/
END:VEVENT
END:VCALENDAR