BEGIN:VCALENDAR
PRODID:-//SINGPromos.com//NONSGML v1.0//EN
VERSION:2.0
CALSCALE:GREGORIAN
METHOD:PUBLISH
X-WR-CALNAME:SINGPromos.com
X-ORIGINAL-URL:https://singpromos.com
X-WR-CALDESC:Events for SINGPromos.com
BEGIN:VEVENT
DTSTART:20120419T000000
DTEND:20120425T235900
DTSTAMP:20260422T082119
CREATED:20120419T160917
LAST-MODIFIED:20120419T161446
UID:30007@https://singpromos.com
SUMMARY:Guardian Health, Beauty & Personal Care Offers 19 - 25 Apr 2012
DESCRIPTION:Here's Guardian's latest promotions, valid till 26 April 2012. This week, Guardian features the new Johnson & Johnson One Touch SelectSimple blood glucose monitor, Vita Gummies and more. For more information, visit [ https://singpromos.com/health/guardian-health-beauty-personal-care-offers-19-25-apr-2012-30007/ ]. 
LOCATION:
URL:https://singpromos.com/health/guardian-health-beauty-personal-care-offers-19-25-apr-2012-30007/
END:VEVENT
END:VCALENDAR