BEGIN:VCALENDAR
PRODID:-//SINGPromos.com//NONSGML v1.0//EN
VERSION:2.0
CALSCALE:GREGORIAN
METHOD:PUBLISH
X-WR-CALNAME:SINGPromos.com
X-ORIGINAL-URL:https://singpromos.com
X-WR-CALDESC:Events for SINGPromos.com
BEGIN:VEVENT
DTSTART:20260302T000000
DTEND:20260331T235900
DTSTAMP:20260422T195455
CREATED:20260302T190731
LAST-MODIFIED:20260302T190731
UID:300111@https://singpromos.com
SUMMARY:Agoda x Mastercard Enjoy Up to 15% Off Worldwide Hotel Stays until 31 Mar 2026
DESCRIPTION:Unlock extra hotel savings worldwide when paying with an eligible Mastercard. For more information, visit [ https://singpromos.com/vacations/agoda-x-mastercard-enjoy-up-to-15-off-worldwide-hotel-stays-until-31-mar-2026-300111/ ]. 
LOCATION:
URL:https://singpromos.com/vacations/agoda-x-mastercard-enjoy-up-to-15-off-worldwide-hotel-stays-until-31-mar-2026-300111/
END:VEVENT
END:VCALENDAR