BEGIN:VCALENDAR
PRODID:-//SINGPromos.com//NONSGML v1.0//EN
VERSION:2.0
CALSCALE:GREGORIAN
METHOD:PUBLISH
X-WR-CALNAME:SINGPromos.com
X-ORIGINAL-URL:https://singpromos.com
X-WR-CALDESC:Events for SINGPromos.com
BEGIN:VEVENT
DTSTART:20260304T000000
DTEND:20260304T235900
DTSTAMP:20260422T054753
CREATED:20260304T170252
LAST-MODIFIED:20260304T180404
UID:300227@https://singpromos.com
SUMMARY:4Fingers Singapore S$4 Crispy Chicken Wings One-Day Deal on 4 Mar 2026
DESCRIPTION:Limited one-day treat. For more information, visit [ https://singpromos.com/dining-restaurants-food/4fingers-singapore-s4-crispy-chicken-wings-one-day-deal-on-4-mar-2026-300227/ ]. 
LOCATION:
URL:https://singpromos.com/dining-restaurants-food/4fingers-singapore-s4-crispy-chicken-wings-one-day-deal-on-4-mar-2026-300227/
END:VEVENT
END:VCALENDAR