BEGIN:VCALENDAR
PRODID:-//SINGPromos.com//NONSGML v1.0//EN
VERSION:2.0
CALSCALE:GREGORIAN
METHOD:PUBLISH
X-WR-CALNAME:SINGPromos.com
X-ORIGINAL-URL:https://singpromos.com
X-WR-CALDESC:Events for SINGPromos.com
BEGIN:VEVENT
DTSTART:20260219T000000
DTEND:20260514T235900
DTSTAMP:20260420T054206
CREATED:20260305T055750
LAST-MODIFIED:20260405T143607
UID:300245@https://singpromos.com
SUMMARY:Seasonal Tastes 1-for-1 Lunch Buffet (Marriott Bonvoy Members - Free Membership) till 14 May 26 (Mon-Thu)
DESCRIPTION:1-for-1 weekday lunch buffet perk with seafood, roasts and desserts. For more information, visit [ https://singpromos.com/dining-restaurants-food/seasonal-tastes-1-for-1-lunch-buffet-marriott-bonvoy-members-free-membership-till-26-mar-26-mon-thu-300245/ ]. 
LOCATION:018961
URL:https://singpromos.com/dining-restaurants-food/seasonal-tastes-1-for-1-lunch-buffet-marriott-bonvoy-members-free-membership-till-26-mar-26-mon-thu-300245/
END:VEVENT
END:VCALENDAR