BEGIN:VCALENDAR
PRODID:-//SINGPromos.com//NONSGML v1.0//EN
VERSION:2.0
CALSCALE:GREGORIAN
METHOD:PUBLISH
X-WR-CALNAME:SINGPromos.com
X-ORIGINAL-URL:https://singpromos.com
X-WR-CALDESC:Events for SINGPromos.com
BEGIN:VEVENT
DTSTART:20120419T000000
DTEND:20120425T235900
DTSTAMP:20260422T082146
CREATED:20120419T161356
LAST-MODIFIED:20120419T161356
UID:30025@https://singpromos.com
SUMMARY:Watsons Personal Care, Health, Cosmetics & Beauty Offers 19 - 25 Apr 2012
DESCRIPTION:Watsons continues their 24th anniversary promotion offers with up to 33% off selected brands including Sally Hanson, Silkygirl, Revlon, Neutrogena, Ginvera, ZA, Sheene, Nivea, Palmer's, Bio-Essence and more.. For more information, visit [ https://singpromos.com/health/watsons-personal-care-health-cosmetics-beauty-offers-19-25-apr-2012-30025/ ]. 
LOCATION:
URL:https://singpromos.com/health/watsons-personal-care-health-cosmetics-beauty-offers-19-25-apr-2012-30025/
END:VEVENT
END:VCALENDAR