BEGIN:VCALENDAR
PRODID:-//SINGPromos.com//NONSGML v1.0//EN
VERSION:2.0
CALSCALE:GREGORIAN
METHOD:PUBLISH
X-WR-CALNAME:SINGPromos.com
X-ORIGINAL-URL:https://singpromos.com
X-WR-CALDESC:Events for SINGPromos.com
BEGIN:VEVENT
DTSTART:20260304T000000
DTEND:20260515T235900
DTSTAMP:20260419T205849
CREATED:20260305T091318
LAST-MODIFIED:20260304T222530
UID:300251@https://singpromos.com
SUMMARY:Seasonal Tastes 1-for-1 seafood dinner buffet with selected bank credit and debit cards until 15 May 2026
DESCRIPTION:Indulge in a lavish seafood buffet featuring oysters, lobsters and more. For more information, visit [ https://singpromos.com/dining-restaurants-food/seasonal-tastes-1-for-1-seafood-dinner-buffet-with-selected-bank-credit-and-debit-cards-until-15-may-2026-300251/ ]. 
LOCATION:
URL:https://singpromos.com/dining-restaurants-food/seasonal-tastes-1-for-1-seafood-dinner-buffet-with-selected-bank-credit-and-debit-cards-until-15-may-2026-300251/
END:VEVENT
END:VCALENDAR