BEGIN:VCALENDAR
PRODID:-//SINGPromos.com//NONSGML v1.0//EN
VERSION:2.0
CALSCALE:GREGORIAN
METHOD:PUBLISH
X-WR-CALNAME:SINGPromos.com
X-ORIGINAL-URL:https://singpromos.com
X-WR-CALDESC:Events for SINGPromos.com
BEGIN:VEVENT
DTSTART:20260305T000000
DTEND:20260311T235900
DTSTAMP:20260420T003209
CREATED:20260305T144100
LAST-MODIFIED:20260305T144100
UID:300268@https://singpromos.com
SUMMARY:FairPrice 50% Off Magnolia Mag-A-Cone Ice Cream Packs & More Link Deals Till 11 Mar 2026
DESCRIPTION:Half-price Magnolia Mag-A-Cone ice cream and more. For more information, visit [ https://singpromos.com/dining-restaurants-food/fairprice-50-off-magnolia-mag-a-cone-ice-cream-packs-more-link-deals-till-11-mar-2026-300268/ ]. 
LOCATION:
URL:https://singpromos.com/dining-restaurants-food/fairprice-50-off-magnolia-mag-a-cone-ice-cream-packs-more-link-deals-till-11-mar-2026-300268/
END:VEVENT
END:VCALENDAR