BEGIN:VCALENDAR
PRODID:-//SINGPromos.com//NONSGML v1.0//EN
VERSION:2.0
CALSCALE:GREGORIAN
METHOD:PUBLISH
X-WR-CALNAME:SINGPromos.com
X-ORIGINAL-URL:https://singpromos.com
X-WR-CALDESC:Events for SINGPromos.com
BEGIN:VEVENT
DTSTART:20260305T000000
DTEND:20260311T235900
DTSTAMP:20260422T201146
CREATED:20260305T155046
LAST-MODIFIED:20260305T172257
UID:300275@https://singpromos.com
SUMMARY:Cold Storage 3-for-$27.50 Häagen-Dazs Ice Cream & more deals till 11 Mar 2026
DESCRIPTION:Premium ice cream, snacks, coffee and more. For more information, visit [ https://singpromos.com/dining-restaurants-food/cold-storage-3-for-27-50-haagen-dazs-ice-cream-more-deals-till-11-mar-2026-300275/ ]. 
LOCATION:
URL:https://singpromos.com/dining-restaurants-food/cold-storage-3-for-27-50-haagen-dazs-ice-cream-more-deals-till-11-mar-2026-300275/
END:VEVENT
END:VCALENDAR