BEGIN:VCALENDAR
PRODID:-//SINGPromos.com//NONSGML v1.0//EN
VERSION:2.0
CALSCALE:GREGORIAN
METHOD:PUBLISH
X-WR-CALNAME:SINGPromos.com
X-ORIGINAL-URL:https://singpromos.com
X-WR-CALDESC:Events for SINGPromos.com
BEGIN:VEVENT
DTSTART:20260305T000000
DTEND:20260331T235900
DTSTAMP:20260422T072135
CREATED:20260306T150817
LAST-MODIFIED:20260306T150817
UID:300302@https://singpromos.com
SUMMARY:Haidilao SG 32nd Anniversary Deals: Wagyu $8.80++, Pork Collar $5.50++ 1-for-1 on weekdays until 31 Mar 2026
DESCRIPTION:Available Monday to Friday 11am to 6pm. For more information, visit [ https://singpromos.com/dining-restaurants-food/haidilao-sg-32nd-anniversary-deals-wagyu-8-80-pork-collar-5-50-1-for-1-on-weekdays-until-31-mar-2026-300302/ ]. 
LOCATION:
URL:https://singpromos.com/dining-restaurants-food/haidilao-sg-32nd-anniversary-deals-wagyu-8-80-pork-collar-5-50-1-for-1-on-weekdays-until-31-mar-2026-300302/
END:VEVENT
END:VCALENDAR