BEGIN:VCALENDAR
PRODID:-//SINGPromos.com//NONSGML v1.0//EN
VERSION:2.0
CALSCALE:GREGORIAN
METHOD:PUBLISH
X-WR-CALNAME:SINGPromos.com
X-ORIGINAL-URL:https://singpromos.com
X-WR-CALDESC:Events for SINGPromos.com
BEGIN:VEVENT
DTSTART:20260306T000000
DTEND:20260308T235900
DTSTAMP:20260422T072142
CREATED:20260306T182221
LAST-MODIFIED:20260306T182221
UID:300317@https://singpromos.com
SUMMARY:CHAGEE orchardgateway 1-for-1 Large Fresh Milk Tea from 6-8 March 2026
DESCRIPTION:Limited-time promotion. For more information, visit [ https://singpromos.com/dining-restaurants-food/chagee-orchardgateway-1-for-1-large-fresh-milk-tea-from-6-8-march-2026-300317/ ]. 
LOCATION:238858
URL:https://singpromos.com/dining-restaurants-food/chagee-orchardgateway-1-for-1-large-fresh-milk-tea-from-6-8-march-2026-300317/
END:VEVENT
END:VCALENDAR