BEGIN:VCALENDAR
PRODID:-//SINGPromos.com//NONSGML v1.0//EN
VERSION:2.0
CALSCALE:GREGORIAN
METHOD:PUBLISH
X-WR-CALNAME:SINGPromos.com
X-ORIGINAL-URL:https://singpromos.com
X-WR-CALDESC:Events for SINGPromos.com
BEGIN:VEVENT
DTSTART:20260306T000000
DTEND:20260322T235900
DTSTAMP:20260422T053828
CREATED:20260306T190041
LAST-MODIFIED:20260312T202245
UID:300324@https://singpromos.com
SUMMARY:Crocs Singapore Big Raya Sale: Enjoy 30% Off $140 Spend & 20% Off $110 Online until 22 Mar 2026
DESCRIPTION:Clogs, sandals and more.. For more information, visit [ https://singpromos.com/footwear/crocs-singapore-big-raya-sale-enjoy-30-off-140-spend-20-off-110-online-until-22-mar-2026-300324/ ]. 
LOCATION:
URL:https://singpromos.com/footwear/crocs-singapore-big-raya-sale-enjoy-30-off-140-spend-20-off-110-online-until-22-mar-2026-300324/
END:VEVENT
END:VCALENDAR