BEGIN:VCALENDAR
PRODID:-//SINGPromos.com//NONSGML v1.0//EN
VERSION:2.0
CALSCALE:GREGORIAN
METHOD:PUBLISH
X-WR-CALNAME:SINGPromos.com
X-ORIGINAL-URL:https://singpromos.com
X-WR-CALDESC:Events for SINGPromos.com
BEGIN:VEVENT
DTSTART:20260307T000000
DTEND:20260308T235900
DTSTAMP:20260422T053849
CREATED:20260307T134143
LAST-MODIFIED:20260307T135839
UID:300337@https://singpromos.com
SUMMARY:Sheng Siong 2-Day Specials Until 8 Mar 26: Milo, Ferrero Rocher, Selleys, Pepsi, 7UP & More Deals
DESCRIPTION:Limited-time supermarket bargains on groceries, snacks, drinks and household essentials.. For more information, visit [ https://singpromos.com/dining-restaurants-food/sheng-siong-2-day-specials-until-8-mar-26-milo-ferrero-rocher-selleys-pepsi-7up-more-deals-300337/ ]. 
LOCATION:
URL:https://singpromos.com/dining-restaurants-food/sheng-siong-2-day-specials-until-8-mar-26-milo-ferrero-rocher-selleys-pepsi-7up-more-deals-300337/
END:VEVENT
END:VCALENDAR