BEGIN:VCALENDAR
PRODID:-//SINGPromos.com//NONSGML v1.0//EN
VERSION:2.0
CALSCALE:GREGORIAN
METHOD:PUBLISH
X-WR-CALNAME:SINGPromos.com
X-ORIGINAL-URL:https://singpromos.com
X-WR-CALDESC:Events for SINGPromos.com
BEGIN:VEVENT
DTSTART:20260312T000000
DTEND:20260312T235900
DTSTAMP:20260422T072143
CREATED:20260307T141308
LAST-MODIFIED:20260307T141308
UID:300368@https://singpromos.com
SUMMARY:Dunkin' Singapore Dozen Day Buy 9 Donuts, Get 3 Free Sweet Treats on 12 Mar 2026
DESCRIPTION:Enjoy a dozen delightful Dunkin' donuts for the price of nine during this tasty one-day deal.. For more information, visit [ https://singpromos.com/dining-restaurants-food/dunkin-singapore-dozen-day-buy-9-donuts-get-3-free-sweet-treats-on-12-mar-2026-300368/ ]. 
LOCATION:
URL:https://singpromos.com/dining-restaurants-food/dunkin-singapore-dozen-day-buy-9-donuts-get-3-free-sweet-treats-on-12-mar-2026-300368/
END:VEVENT
END:VCALENDAR