BEGIN:VCALENDAR
PRODID:-//SINGPromos.com//NONSGML v1.0//EN
VERSION:2.0
CALSCALE:GREGORIAN
METHOD:PUBLISH
X-WR-CALNAME:SINGPromos.com
X-ORIGINAL-URL:https://singpromos.com
X-WR-CALDESC:Events for SINGPromos.com
BEGIN:VEVENT
DTSTART:20260308T000000
DTEND:20260308T235900
DTSTAMP:20260422T072157
CREATED:20260307T181925
LAST-MODIFIED:20260307T182136
UID:300374@https://singpromos.com
SUMMARY:Fairprice Xtra Giving Away FREE Magnolia x Hello Kitty Treat for Women's Day on 8 Mar 2026, 2pm onwards
DESCRIPTION:A sweet Hello Kitty ice cream giveaway to celebrate the amazing women in our lives. For more information, visit [ https://singpromos.com/dining-restaurants-food/fairprice-xtra-giving-away-free-magnolia-x-hello-kitty-treat-for-womens-day-on-8-mar-2026-2pm-onwards-300374/ ]. 
LOCATION:
URL:https://singpromos.com/dining-restaurants-food/fairprice-xtra-giving-away-free-magnolia-x-hello-kitty-treat-for-womens-day-on-8-mar-2026-2pm-onwards-300374/
END:VEVENT
END:VCALENDAR