BEGIN:VCALENDAR
PRODID:-//SINGPromos.com//NONSGML v1.0//EN
VERSION:2.0
CALSCALE:GREGORIAN
METHOD:PUBLISH
X-WR-CALNAME:SINGPromos.com
X-ORIGINAL-URL:https://singpromos.com
X-WR-CALDESC:Events for SINGPromos.com
BEGIN:VEVENT
DTSTART:20260309T000000
DTEND:20260403T235900
DTSTAMP:20260422T053536
CREATED:20260308T171541
LAST-MODIFIED:20260405T202643
UID:300390@https://singpromos.com
SUMMARY:Coffee Bean SG New Turkey Ham & Cheese Brioche Burger Weekday Breakfast Set Deal from 9 Mar 2026
DESCRIPTION:A satisfying weekday breakfast set with brioche burger, salad, muffin and Spanish latte.. For more information, visit [ https://singpromos.com/dining-restaurants-food/coffee-bean-sg-new-turkey-ham-cheese-brioche-burger-weekday-breakfast-set-deal-from-9-mar-2026-300390/ ]. 
LOCATION:
URL:https://singpromos.com/dining-restaurants-food/coffee-bean-sg-new-turkey-ham-cheese-brioche-burger-weekday-breakfast-set-deal-from-9-mar-2026-300390/
END:VEVENT
END:VCALENDAR