BEGIN:VCALENDAR
PRODID:-//SINGPromos.com//NONSGML v1.0//EN
VERSION:2.0
CALSCALE:GREGORIAN
METHOD:PUBLISH
X-WR-CALNAME:SINGPromos.com
X-ORIGINAL-URL:https://singpromos.com
X-WR-CALDESC:Events for SINGPromos.com
BEGIN:VEVENT
DTSTART:20260330T000000
DTEND:20260412T235900
DTSTAMP:20260420T052229
CREATED:20260330T124307
LAST-MODIFIED:20260413T163010
UID:301142@https://singpromos.com
SUMMARY:BOC Singapore Time Deposit Promo Offers Up to 1.40% p.a. from 30 Mar 2026
DESCRIPTION:Lock in steady returns with flexible tenors from S$500 and competitive rates. For more information, visit [ https://singpromos.com/banks-credit-cards/boc-singapore-time-deposit-promo-offers-up-to-1-40-p-a-from-30-mar-2026-301142/ ]. 
LOCATION:
URL:https://singpromos.com/banks-credit-cards/boc-singapore-time-deposit-promo-offers-up-to-1-40-p-a-from-30-mar-2026-301142/
END:VEVENT
END:VCALENDAR