BEGIN:VCALENDAR
PRODID:-//SINGPromos.com//NONSGML v1.0//EN
VERSION:2.0
CALSCALE:GREGORIAN
METHOD:PUBLISH
X-WR-CALNAME:SINGPromos.com
X-ORIGINAL-URL:https://singpromos.com
X-WR-CALDESC:Events for SINGPromos.com
BEGIN:VEVENT
DTSTART:20110122T000000
DTEND:20110130T235900
DTSTAMP:20260420T230407
CREATED:20110123T020219
LAST-MODIFIED:20110129T185927
UID:3015@https://singpromos.com
SUMMARY:Novena Furniture Sale 22 - 23 Jan 2011
DESCRIPTION:Novena is having a Chinese New Year furniture sale with "Factory direct prices" and giving away free gifts of Skylight Abalone with minimum purchase. Items include bed frames, sofa, rocking chairs, dining sets and more. See ad image for more details.. For more information, visit [ https://singpromos.com/furniture/novena-furniture-sale-22-23-jan-2011-3015/ ]. 
LOCATION:
URL:https://singpromos.com/furniture/novena-furniture-sale-22-23-jan-2011-3015/
END:VEVENT
END:VCALENDAR