BEGIN:VCALENDAR
PRODID:-//SINGPromos.com//NONSGML v1.0//EN
VERSION:2.0
CALSCALE:GREGORIAN
METHOD:PUBLISH
X-WR-CALNAME:SINGPromos.com
X-ORIGINAL-URL:https://singpromos.com
X-WR-CALDESC:Events for SINGPromos.com
BEGIN:VEVENT
DTSTART:20260423T000000
DTEND:20260423T235900
DTSTAMP:20260422T035533
CREATED:20260422T083503
LAST-MODIFIED:20260418T132251
UID:301690@https://singpromos.com
SUMMARY:Jack's Place $6 60th Anniversary Lunch Deal at Toa Payoh on 23 Apr 2026
DESCRIPTION:Savour a full steakhouse set lunch at just $6 with mains, sides and dessert. For more information, visit [ https://singpromos.com/dining-restaurants-food/jacks-place-6-60th-anniversary-lunch-deal-at-toa-payoh-on-23-apr-2026-301690/ ]. 
LOCATION:319402
URL:https://singpromos.com/dining-restaurants-food/jacks-place-6-60th-anniversary-lunch-deal-at-toa-payoh-on-23-apr-2026-301690/
END:VEVENT
END:VCALENDAR