BEGIN:VCALENDAR
PRODID:-//SINGPromos.com//NONSGML v1.0//EN
VERSION:2.0
CALSCALE:GREGORIAN
METHOD:PUBLISH
X-WR-CALNAME:SINGPromos.com
X-ORIGINAL-URL:https://singpromos.com
X-WR-CALDESC:Events for SINGPromos.com
BEGIN:VEVENT
DTSTART:20260423T000000
DTEND:20260426T235900
DTSTAMP:20260422T035442
CREATED:20260422T093917
LAST-MODIFIED:20260421T140740
UID:301703@https://singpromos.com
SUMMARY:Royal Caribbean Roadshow at Marina Square (23-26 Apr 2026)
DESCRIPTION:Cruise savings, selected free fares and more. For more information, visit [ https://singpromos.com/happenings/royal-caribbean-roadshow-at-marina-square-23-26-apr-2026-301703/ ]. 
LOCATION:039594
URL:https://singpromos.com/happenings/royal-caribbean-roadshow-at-marina-square-23-26-apr-2026-301703/
END:VEVENT
END:VCALENDAR