BEGIN:VCALENDAR
PRODID:-//SINGPromos.com//NONSGML v1.0//EN
VERSION:2.0
CALSCALE:GREGORIAN
METHOD:PUBLISH
X-WR-CALNAME:SINGPromos.com
X-ORIGINAL-URL:https://singpromos.com
X-WR-CALDESC:Events for SINGPromos.com
BEGIN:VEVENT
DTSTART:20260401T000000
DTEND:20260630T235900
DTSTAMP:20260420T210341
CREATED:20260415T001521
LAST-MODIFIED:20260421T011637
UID:301806@https://singpromos.com
SUMMARY:Logitech Singapore Deals Apr-Jun 2026 Has Savings on Gaming, Creator, Work & Audio Gear
DESCRIPTION:Upgrade gaming, streaming, and work setups with limited-time Logitech deals. For more information, visit [ https://singpromos.com/computers-pc/logitech-singapore-deals-apr-jun-2026-has-savings-on-gaming-creator-work-audio-gear-301806/ ]. 
LOCATION:
URL:https://singpromos.com/computers-pc/logitech-singapore-deals-apr-jun-2026-has-savings-on-gaming-creator-work-audio-gear-301806/
END:VEVENT
END:VCALENDAR