BEGIN:VCALENDAR
PRODID:-//SINGPromos.com//NONSGML v1.0//EN
VERSION:2.0
CALSCALE:GREGORIAN
METHOD:PUBLISH
X-WR-CALNAME:SINGPromos.com
X-ORIGINAL-URL:https://singpromos.com
X-WR-CALDESC:Events for SINGPromos.com
BEGIN:VEVENT
DTSTART:20260423T000000
DTEND:20260426T235900
DTSTAMP:20260422T081404
CREATED:20260422T143315
LAST-MODIFIED:20260421T150641
UID:301826@https://singpromos.com
SUMMARY:Outdoor Venture Warehouse Sale Up to 70% Off Outdoor Gear This 23-26 April 2026
DESCRIPTION:Discounts on outdoor gear with daily flash deals and bundle savings. For more information, visit [ https://singpromos.com/warehouse-sales/outdoor-venture-warehouse-sale-up-to-70-off-outdoor-gear-this-23-26-april-2026-301826/ ]. 
LOCATION:17 Kaki Bukit Crescent, 416248
URL:https://singpromos.com/warehouse-sales/outdoor-venture-warehouse-sale-up-to-70-off-outdoor-gear-this-23-26-april-2026-301826/
END:VEVENT
END:VCALENDAR