BEGIN:VCALENDAR
PRODID:-//SINGPromos.com//NONSGML v1.0//EN
VERSION:2.0
CALSCALE:GREGORIAN
METHOD:PUBLISH
X-WR-CALNAME:SINGPromos.com
X-ORIGINAL-URL:https://singpromos.com
X-WR-CALDESC:Events for SINGPromos.com
BEGIN:VEVENT
DTSTART:20260423T000000
DTEND:20260517T235900
DTSTAMP:20260422T034615
CREATED:20260421T165815
LAST-MODIFIED:20260421T165815
UID:301835@https://singpromos.com
SUMMARY:Krispy Kreme S'pore New "Spring Up Series" from 23 Apr - 17 May 2026
DESCRIPTION:Bringing together comforting classics and fruity favourites. For more information, visit [ https://singpromos.com/dining-restaurants-food/krispy-kreme-spore-new-spring-up-series-from-23-apr-17-may-2026-301835/ ]. 
LOCATION:
URL:https://singpromos.com/dining-restaurants-food/krispy-kreme-spore-new-spring-up-series-from-23-apr-17-may-2026-301835/
END:VEVENT
END:VCALENDAR