BEGIN:VCALENDAR
PRODID:-//SINGPromos.com//NONSGML v1.0//EN
VERSION:2.0
CALSCALE:GREGORIAN
METHOD:PUBLISH
X-WR-CALNAME:SINGPromos.com
X-ORIGINAL-URL:https://singpromos.com
X-WR-CALDESC:Events for SINGPromos.com
BEGIN:VEVENT
DTSTART:20260422T000000
DTEND:20260505T235900
DTSTAMP:20260422T081404
CREATED:20260422T144323
LAST-MODIFIED:20260422T144323
UID:301846@https://singpromos.com
SUMMARY:7-Eleven S'pore Ice Cream Deals Has 3-for-$5 Cornetto & More until 5 May 2026
DESCRIPTION:Chill out with wallet-friendly ice cream deals. For more information, visit [ https://singpromos.com/dining-restaurants-food/7-eleven-spore-ice-cream-deals-has-3-for-5-cornetto-more-until-5-may-2026-301846/ ]. 
LOCATION:
URL:https://singpromos.com/dining-restaurants-food/7-eleven-spore-ice-cream-deals-has-3-for-5-cornetto-more-until-5-may-2026-301846/
END:VEVENT
END:VCALENDAR