BEGIN:VCALENDAR
PRODID:-//SINGPromos.com//NONSGML v1.0//EN
VERSION:2.0
CALSCALE:GREGORIAN
METHOD:PUBLISH
X-WR-CALNAME:SINGPromos.com
X-ORIGINAL-URL:https://singpromos.com
X-WR-CALDESC:Events for SINGPromos.com
BEGIN:VEVENT
DTSTART:20260422T000000
DTEND:20260505T235900
DTSTAMP:20260422T202020
CREATED:20260422T171101
LAST-MODIFIED:20260422T171101
UID:301858@https://singpromos.com
SUMMARY:7-Eleven S'pore S$1 Snack & Drink Deals Has Lay's, Hershey's & More Till 5 May 2026
DESCRIPTION:Wallet-friendly snacks and drinks from $1. For more information, visit [ https://singpromos.com/dining-restaurants-food/7-eleven-spore-s1-snack-drink-deals-has-lays-hersheys-more-till-5-may-2026-301858/ ]. 
LOCATION:
URL:https://singpromos.com/dining-restaurants-food/7-eleven-spore-s1-snack-drink-deals-has-lays-hersheys-more-till-5-may-2026-301858/
END:VEVENT
END:VCALENDAR